BEGIN:VCALENDAR
VERSION:2.0
PRODID:-//Randall Middle School STEM - ECPv6.15.20//NONSGML v1.0//EN
CALSCALE:GREGORIAN
METHOD:PUBLISH
X-ORIGINAL-URL:https://randallmsstem.com
X-WR-CALDESC:Events for Randall Middle School STEM
REFRESH-INTERVAL;VALUE=DURATION:PT1H
X-Robots-Tag:noindex
X-PUBLISHED-TTL:PT1H
BEGIN:VTIMEZONE
TZID:America/New_York
BEGIN:DAYLIGHT
TZOFFSETFROM:-0500
TZOFFSETTO:-0400
TZNAME:EDT
DTSTART:20240310T070000
END:DAYLIGHT
BEGIN:STANDARD
TZOFFSETFROM:-0400
TZOFFSETTO:-0500
TZNAME:EST
DTSTART:20241103T060000
END:STANDARD
BEGIN:DAYLIGHT
TZOFFSETFROM:-0500
TZOFFSETTO:-0400
TZNAME:EDT
DTSTART:20250309T070000
END:DAYLIGHT
BEGIN:STANDARD
TZOFFSETFROM:-0400
TZOFFSETTO:-0500
TZNAME:EST
DTSTART:20251102T060000
END:STANDARD
BEGIN:DAYLIGHT
TZOFFSETFROM:-0500
TZOFFSETTO:-0400
TZNAME:EDT
DTSTART:20260308T070000
END:DAYLIGHT
BEGIN:STANDARD
TZOFFSETFROM:-0400
TZOFFSETTO:-0500
TZNAME:EST
DTSTART:20261101T060000
END:STANDARD
END:VTIMEZONE
BEGIN:VEVENT
DTSTART;TZID=America/New_York:20250813T183000
DTEND;TZID=America/New_York:20250813T193000
DTSTAMP:20260421T045751
CREATED:20250810T223322Z
LAST-MODIFIED:20250811T154328Z
UID:2223-1755109800-1755113400@randallmsstem.com
SUMMARY:STEM Club Parent Information Night 2025
DESCRIPTION:
URL:https://randallmsstem.com/event/parent-information-night-2025/
LOCATION:Randall Middle School Cafeteria
END:VEVENT
BEGIN:VEVENT
DTSTART;TZID=America/New_York:20250814T083000
DTEND;TZID=America/New_York:20250814T093000
DTSTAMP:20260421T045751
CREATED:20250811T145713Z
LAST-MODIFIED:20250811T150438Z
UID:2256-1755160200-1755163800@randallmsstem.com
SUMMARY:Robotics Competitive Team Information Meeting  Rm 126 - Students only . Will be picked up from front gate
DESCRIPTION:
URL:https://randallmsstem.com/event/competitive-team-information-meeting-robotics-students-only-will-be-picked-up-from-front-gate/
LOCATION:Class Room 126
END:VEVENT
BEGIN:VEVENT
DTSTART;TZID=America/New_York:20250815T083000
DTEND;TZID=America/New_York:20250815T093000
DTSTAMP:20260421T045751
CREATED:20250811T150107Z
LAST-MODIFIED:20250811T152027Z
UID:2260-1755246600-1755250200@randallmsstem.com
SUMMARY:TEST for Robotics Competitive Team  Rm 126 - will pick up students from front gate
DESCRIPTION:
URL:https://randallmsstem.com/event/competitive-team-robotics-test-rm-126-will-pick-up-from-front-gate/
END:VEVENT
BEGIN:VEVENT
DTSTART;TZID=America/New_York:20250818T083000
DTEND;TZID=America/New_York:20250818T093000
DTSTAMP:20260421T045751
CREATED:20250811T152210Z
LAST-MODIFIED:20250811T152303Z
UID:2266-1755505800-1755509400@randallmsstem.com
SUMMARY:Science Olympiad Competitive Team Information Meeting  Rm 126 - Students only . Will be picked up from front gate
DESCRIPTION:
URL:https://randallmsstem.com/event/science-competitive-team-information-meeting-rm-126-students-only-will-be-picked-up-from-front-gate/
LOCATION:Class Room 126
END:VEVENT
BEGIN:VEVENT
DTSTART;TZID=America/New_York:20250818T173000
DTEND;TZID=America/New_York:20250818T183000
DTSTAMP:20260421T045751
CREATED:20250814T032931Z
LAST-MODIFIED:20250814T032931Z
UID:2269-1755538200-1755541800@randallmsstem.com
SUMMARY:Mandatory Robotics Competitive Parent Meeting Via Teams -Only for selected students
DESCRIPTION:
URL:https://randallmsstem.com/event/mandatory-robotics-competitive-parent-meeting-via-teams-only-for-selected-students/
LOCATION:VIA TEAMS
END:VEVENT
BEGIN:VEVENT
DTSTART;TZID=America/New_York:20250820T083000
DTEND;TZID=America/New_York:20250820T093000
DTSTAMP:20260421T045751
CREATED:20250811T153222Z
LAST-MODIFIED:20250811T153222Z
UID:2270-1755678600-1755682200@randallmsstem.com
SUMMARY:TEST for Science Olympiad Competitive Team  Rm 126 - will pick up students from front gate
DESCRIPTION:
URL:https://randallmsstem.com/event/test-for-science-olympiad-competitive-team-rm-126-will-pick-up-students-from-front-gate/
END:VEVENT
BEGIN:VEVENT
DTSTART;TZID=America/New_York:20250821T083000
DTEND;TZID=America/New_York:20250821T093000
DTSTAMP:20260421T045751
CREATED:20250811T153813Z
LAST-MODIFIED:20250821T020724Z
UID:2272-1755765000-1755768600@randallmsstem.com
SUMMARY:NEW UPDATE TESTING & MEETING for Sea Perch(Underwater Robotics) Competitive Team   Rm 111 - Students only . Will be picked up from front gate
DESCRIPTION:
URL:https://randallmsstem.com/event/sea-perchunderwater-robotics-competitive-team-information-meeting-rm-111-students-only-will-be-picked-up-from-front-gate/
LOCATION:Class Room 126
END:VEVENT
END:VCALENDAR