BEGIN:VCALENDAR
VERSION:2.0
PRODID:-//Randall Middle School STEM - ECPv6.15.20//NONSGML v1.0//EN
CALSCALE:GREGORIAN
METHOD:PUBLISH
X-WR-CALNAME:Randall Middle School STEM
X-ORIGINAL-URL:https://randallmsstem.com
X-WR-CALDESC:Events for Randall Middle School STEM
REFRESH-INTERVAL;VALUE=DURATION:PT1H
X-Robots-Tag:noindex
X-PUBLISHED-TTL:PT1H
BEGIN:VTIMEZONE
TZID:America/New_York
BEGIN:DAYLIGHT
TZOFFSETFROM:-0500
TZOFFSETTO:-0400
TZNAME:EDT
DTSTART:20230312T070000
END:DAYLIGHT
BEGIN:STANDARD
TZOFFSETFROM:-0400
TZOFFSETTO:-0500
TZNAME:EST
DTSTART:20231105T060000
END:STANDARD
BEGIN:DAYLIGHT
TZOFFSETFROM:-0500
TZOFFSETTO:-0400
TZNAME:EDT
DTSTART:20240310T070000
END:DAYLIGHT
BEGIN:STANDARD
TZOFFSETFROM:-0400
TZOFFSETTO:-0500
TZNAME:EST
DTSTART:20241103T060000
END:STANDARD
BEGIN:DAYLIGHT
TZOFFSETFROM:-0500
TZOFFSETTO:-0400
TZNAME:EDT
DTSTART:20250309T070000
END:DAYLIGHT
BEGIN:STANDARD
TZOFFSETFROM:-0400
TZOFFSETTO:-0500
TZNAME:EST
DTSTART:20251102T060000
END:STANDARD
END:VTIMEZONE
BEGIN:VEVENT
DTSTART;TZID=America/New_York:20240404T082000
DTEND;TZID=America/New_York:20240404T093000
DTSTAMP:20260422T015700
CREATED:20231216T184153Z
LAST-MODIFIED:20231216T200841Z
UID:1992-1712218800-1712223000@randallmsstem.com
SUMMARY:Purple Clubs: Graphic Design\, Chess\, Microbiology\, and Spheros - Students to be at the front gate by 8:20am
DESCRIPTION:
URL:https://randallmsstem.com/event/spring-academy-purple-clubs-graphic-design-chess-microbiology-and-spheros-students-to-be-at-the-front-gate-by-820am-3/
END:VEVENT
BEGIN:VEVENT
DTSTART;TZID=America/New_York:20240411T082000
DTEND;TZID=America/New_York:20240411T093000
DTSTAMP:20260422T015700
CREATED:20231216T185345Z
LAST-MODIFIED:20231216T200829Z
UID:2005-1712823600-1712827800@randallmsstem.com
SUMMARY:White Clubs: Rubik's Cubes\, Lego Creations\, Animal Allies\, and Drones - Students to be at the front gate by 8:20am
DESCRIPTION:
URL:https://randallmsstem.com/event/spring-academy-white-clubs-rubiks-cubes-lego-creations-animal-allies-and-drones-students-to-be-at-the-front-gate-by-820am-5/
END:VEVENT
BEGIN:VEVENT
DTSTART;TZID=America/New_York:20240418T082000
DTEND;TZID=America/New_York:20240418T093000
DTSTAMP:20260422T015700
CREATED:20231216T184216Z
LAST-MODIFIED:20231216T200817Z
UID:1994-1713428400-1713432600@randallmsstem.com
SUMMARY:Purple Clubs: Graphic Design\, Chess\, Microbiology\, and Spheros - Students to be at the front gate by 8:20am
DESCRIPTION:
URL:https://randallmsstem.com/event/spring-academy-purple-clubs-graphic-design-chess-microbiology-and-spheros-students-to-be-at-the-front-gate-by-820am-4/
END:VEVENT
BEGIN:VEVENT
DTSTART;TZID=America/New_York:20240425T082000
DTEND;TZID=America/New_York:20240425T093000
DTSTAMP:20260422T015700
CREATED:20231216T185410Z
LAST-MODIFIED:20231216T200754Z
UID:2007-1714033200-1714037400@randallmsstem.com
SUMMARY:White Clubs: Rubik's Cubes\, Lego Creations\, Animal Allies\, and Drones - Students to be at the front gate by 8:20am
DESCRIPTION:
URL:https://randallmsstem.com/event/spring-academy-white-clubs-rubiks-cubes-lego-creations-animal-allies-and-drones-students-to-be-at-the-front-gate-by-820am-6/
END:VEVENT
BEGIN:VEVENT
DTSTART;TZID=America/New_York:20240430T180000
DTEND;TZID=America/New_York:20240430T200000
DTSTAMP:20260422T015700
CREATED:20240411T151914Z
LAST-MODIFIED:20240412T185525Z
UID:2110-1714500000-1714507200@randallmsstem.com
SUMMARY:STEM Awards Night
DESCRIPTION:Please join Randall Middle School STEM Club for our STEM AWARDS NIGHT! \nOur students will be honored for all of their hard work and dedication they have shown during this fantastic 2023-24 STEM Year! \nOur ceremony will be held in the Cafeteria starting at 6pm and should last until 8pm. Light refreshments will be served. \nDress for the night is STEM shirts for the students. \nLink to RSVP https://forms.gle/MytCyaUdbXxBEb1G8
URL:https://randallmsstem.com/event/stem-awards-night/
END:VEVENT
END:VCALENDAR