BEGIN:VCALENDAR
VERSION:2.0
PRODID:-//Randall Middle School STEM - ECPv6.15.20//NONSGML v1.0//EN
CALSCALE:GREGORIAN
METHOD:PUBLISH
X-ORIGINAL-URL:https://randallmsstem.com
X-WR-CALDESC:Events for Randall Middle School STEM
REFRESH-INTERVAL;VALUE=DURATION:PT1H
X-Robots-Tag:noindex
X-PUBLISHED-TTL:PT1H
BEGIN:VTIMEZONE
TZID:America/New_York
BEGIN:DAYLIGHT
TZOFFSETFROM:-0500
TZOFFSETTO:-0400
TZNAME:EDT
DTSTART:20230312T070000
END:DAYLIGHT
BEGIN:STANDARD
TZOFFSETFROM:-0400
TZOFFSETTO:-0500
TZNAME:EST
DTSTART:20231105T060000
END:STANDARD
BEGIN:DAYLIGHT
TZOFFSETFROM:-0500
TZOFFSETTO:-0400
TZNAME:EDT
DTSTART:20240310T070000
END:DAYLIGHT
BEGIN:STANDARD
TZOFFSETFROM:-0400
TZOFFSETTO:-0500
TZNAME:EST
DTSTART:20241103T060000
END:STANDARD
BEGIN:DAYLIGHT
TZOFFSETFROM:-0500
TZOFFSETTO:-0400
TZNAME:EDT
DTSTART:20250309T070000
END:DAYLIGHT
BEGIN:STANDARD
TZOFFSETFROM:-0400
TZOFFSETTO:-0500
TZNAME:EST
DTSTART:20251102T060000
END:STANDARD
END:VTIMEZONE
BEGIN:VEVENT
DTSTART;TZID=America/New_York:20240201T082000
DTEND;TZID=America/New_York:20240201T093000
DTSTAMP:20260422T045338
CREATED:20231216T183438Z
LAST-MODIFIED:20231216T183936Z
UID:1981-1706775600-1706779800@randallmsstem.com
SUMMARY:Spring Academy Purple Clubs: Graphic Design\, Chess\, Microbiology\, and Spheros - Students to be at the front gate by 8:20am
DESCRIPTION:
URL:https://randallmsstem.com/event/spring-academy-purple-group/
END:VEVENT
BEGIN:VEVENT
DTSTART;TZID=America/New_York:20240203T120000
DTEND;TZID=America/New_York:20240217T170000
DTSTAMP:20260422T045338
CREATED:20240201T161225Z
LAST-MODIFIED:20240201T165331Z
UID:2087-1706961600-1708189200@randallmsstem.com
SUMMARY:STEM TRIVIA NIGHT TICKETS GO ON SALE
DESCRIPTION:Magic is in the air at RMS STEM Club!!!\nOur 2nd Annual RMS STEM CLUB BOOSTERS Family/ Friends Trivia Night is coming up on February 22nd.\n$5 for a seat OR Grab a TABLE for 8 of your favorite people and compete together!\nPRIZES for each round of winners!\nDoors Open at 6pm with games beginning at 6:30pm-8pm.\nSeveral rounds of trivia for ALL AGES (and yes\, only ONE round of “Harry Potter” questions)\nA round of Trivia questions from our very own STEM STUDENTS (be on the lookout for the google form for children to submit them).\nSILENT AUCTION BASKETS/ GOODIES from local businesses!!!\nPre-Purchased Chick-Fil-A meals available to enjoy while you “Trivia” the night away!\n\nBring CASH for the Snack/dessert/Soft drinks/Waters Concessions too!\nPurchase your tickets beginning this Saturday\, Feb 3\, at noon via our website @https://randallmsstem.com/fundraisers/
URL:https://randallmsstem.com/event/stem-trivia-night-tickets-go-on-sale/
END:VEVENT
BEGIN:VEVENT
DTSTART;TZID=America/New_York:20240208T082000
DTEND;TZID=America/New_York:20240208T093000
DTSTAMP:20260422T045338
CREATED:20231216T185031Z
LAST-MODIFIED:20231216T185031Z
UID:1997-1707380400-1707384600@randallmsstem.com
SUMMARY:Spring Academy White Clubs: Rubik's Cubes\, Lego Creations\, Animal Allies\, and Drones - Students to be at the front gate by 8:20am
DESCRIPTION:
URL:https://randallmsstem.com/event/spring-academy-white-clubs-rubiks-cubes-lego-creations-animal-allies-and-drones-students-to-be-at-the-front-gate-by-820am/
END:VEVENT
BEGIN:VEVENT
DTSTART;TZID=America/New_York:20240209T090000
DTEND;TZID=America/New_York:20240209T200000
DTSTAMP:20260422T045338
CREATED:20231216T190609Z
LAST-MODIFIED:20231218T174823Z
UID:2014-1707469200-1707508800@randallmsstem.com
SUMMARY:Field Trip to Engineering Expo and AmRoc STEAMFest at the State Fair!
DESCRIPTION:
URL:https://randallmsstem.com/event/field-trip-to-engineering-expo-and-amroc-space-at-the-state-fair/
END:VEVENT
BEGIN:VEVENT
DTSTART;TZID=America/New_York:20240210T080000
DTEND;TZID=America/New_York:20240210T170000
DTSTAMP:20260422T045338
CREATED:20231216T185902Z
LAST-MODIFIED:20231216T185902Z
UID:2009-1707552000-1707584400@randallmsstem.com
SUMMARY:Science Olympiad and Robotics competitions
DESCRIPTION:
URL:https://randallmsstem.com/event/science-olympiad-and-robotics-competitions/
END:VEVENT
BEGIN:VEVENT
DTSTART;TZID=America/New_York:20240215T082000
DTEND;TZID=America/New_York:20240215T093000
DTSTAMP:20260422T045338
CREATED:20231216T183846Z
LAST-MODIFIED:20231216T201044Z
UID:1984-1707985200-1707989400@randallmsstem.com
SUMMARY:Purple Clubs: Graphic Design\, Chess\, Microbiology\, and Spheros - Students to be at the front gate by 8:20am
DESCRIPTION:
URL:https://randallmsstem.com/event/spring-academy-purple-clubs-graphic-design-chess-microbiology-spheros/
END:VEVENT
BEGIN:VEVENT
DTSTART;TZID=America/New_York:20240222T082000
DTEND;TZID=America/New_York:20240222T093000
DTSTAMP:20260422T045338
CREATED:20231216T185101Z
LAST-MODIFIED:20231216T201016Z
UID:1999-1708590000-1708594200@randallmsstem.com
SUMMARY:White Clubs: Rubik's Cubes\, Lego Creations\, Animal Allies\, and Drones - Students to be at the front gate by 8:20am
DESCRIPTION:
URL:https://randallmsstem.com/event/spring-academy-white-clubs-rubiks-cubes-lego-creations-animal-allies-and-drones-students-to-be-at-the-front-gate-by-820am-2/
END:VEVENT
BEGIN:VEVENT
DTSTART;TZID=America/New_York:20240222T180000
DTEND;TZID=America/New_York:20240222T200000
DTSTAMP:20260422T045338
CREATED:20231216T190037Z
LAST-MODIFIED:20240201T165304Z
UID:2011-1708624800-1708632000@randallmsstem.com
SUMMARY:Friends and Family Trivia Night with a Silent Auction
DESCRIPTION:Magic is in the air at RMS STEM Club!!!\nOur 2nd Annual RMS STEM CLUB BOOSTERS Family/ Friends Trivia Night is coming up on February 22nd.\n$5 for a seat OR Grab a TABLE for 8 of your favorite people and compete together!\nPRIZES for each round of winners!\nDoors Open at 6pm with games beginning at 6:30pm-8pm.\nSeveral rounds of trivia for ALL AGES (and yes\, only ONE round of “Harry Potter” questions)\nA round of Trivia questions from our very own STEM STUDENTS (be on the lookout for the google form for children to submit them).\nSILENT AUCTION BASKETS/ GOODIES from local businesses!!!\nPre-Purchased Chick-Fil-A meals available to enjoy while you “Trivia” the night away!\n\nBring CASH for the Snack/dessert/Soft drinks/Waters Concessions too!\nPurchase your tickets beginning this Saturday\, Feb 3\, at noon via our website @https://randallmsstem.com/fundraisers/
URL:https://randallmsstem.com/event/trivia-night-with-a-silent-auction-in-the-cafeteria/
END:VEVENT
BEGIN:VEVENT
DTSTART;TZID=America/New_York:20240229T082000
DTEND;TZID=America/New_York:20240229T093000
DTSTAMP:20260422T045338
CREATED:20231216T184037Z
LAST-MODIFIED:20231216T200959Z
UID:1988-1709194800-1709199000@randallmsstem.com
SUMMARY:Purple Clubs: Graphic Design\, Chess\, Microbiology\, and Spheros - Students to be at the front gate by 8:20am
DESCRIPTION:
URL:https://randallmsstem.com/event/spring-academy-purple-clubs-graphic-design-chess-microbiology-and-spheros-students-to-be-at-the-front-gate-by-820am/
END:VEVENT
END:VCALENDAR