BEGIN:VCALENDAR
VERSION:2.0
PRODID:-//Randall Middle School STEM - ECPv6.15.20//NONSGML v1.0//EN
CALSCALE:GREGORIAN
METHOD:PUBLISH
X-ORIGINAL-URL:https://randallmsstem.com
X-WR-CALDESC:Events for Randall Middle School STEM
REFRESH-INTERVAL;VALUE=DURATION:PT1H
X-Robots-Tag:noindex
X-PUBLISHED-TTL:PT1H
BEGIN:VTIMEZONE
TZID:America/New_York
BEGIN:DAYLIGHT
TZOFFSETFROM:-0500
TZOFFSETTO:-0400
TZNAME:EDT
DTSTART:20220313T070000
END:DAYLIGHT
BEGIN:STANDARD
TZOFFSETFROM:-0400
TZOFFSETTO:-0500
TZNAME:EST
DTSTART:20221106T060000
END:STANDARD
BEGIN:DAYLIGHT
TZOFFSETFROM:-0500
TZOFFSETTO:-0400
TZNAME:EDT
DTSTART:20230312T070000
END:DAYLIGHT
BEGIN:STANDARD
TZOFFSETFROM:-0400
TZOFFSETTO:-0500
TZNAME:EST
DTSTART:20231105T060000
END:STANDARD
BEGIN:DAYLIGHT
TZOFFSETFROM:-0500
TZOFFSETTO:-0400
TZNAME:EDT
DTSTART:20240310T070000
END:DAYLIGHT
BEGIN:STANDARD
TZOFFSETFROM:-0400
TZOFFSETTO:-0500
TZNAME:EST
DTSTART:20241103T060000
END:STANDARD
END:VTIMEZONE
BEGIN:VEVENT
DTSTART;TZID=America/New_York:20231102T082000
DTEND;TZID=America/New_York:20231102T093000
DTSTAMP:20260424T052117
CREATED:20230907T005821Z
LAST-MODIFIED:20230907T005821Z
UID:1952-1698913200-1698917400@randallmsstem.com
SUMMARY:White Clubs: Graphic Design\, Rubik's Cubes and Animal Allies Academy  - Students to be at the front gate by 8:20am
DESCRIPTION:White Clubs: Graphic Design\, Rubik’s Cubes and Animal Allies
URL:https://randallmsstem.com/event/white-clubs-graphic-design-rubiks-cubes-and-animal-allies-academy-students-to-be-at-the-front-gate-by-820am-4/
END:VEVENT
BEGIN:VEVENT
DTSTART;TZID=America/New_York:20231109T082000
DTEND;TZID=America/New_York:20231109T093000
DTSTAMP:20260424T052117
CREATED:20230906T201558Z
LAST-MODIFIED:20230906T201558Z
UID:1924-1699518000-1699522200@randallmsstem.com
SUMMARY:Purple Clubs: Chess\, Spheros\, Rockets and LEGO Creations Academy - Students to be at the front gate by 8:20am
DESCRIPTION:Purple Clubs: Chess\, Spheros\, Rockets and LEGO Creations
URL:https://randallmsstem.com/event/purple-clubs-chess-spheros-rockets-and-lego-creations-academy-students-to-be-at-the-front-gate-by-820am-3/
END:VEVENT
BEGIN:VEVENT
DTSTART;TZID=America/New_York:20231116T082000
DTEND;TZID=America/New_York:20231116T093000
DTSTAMP:20260424T052117
CREATED:20230907T005851Z
LAST-MODIFIED:20230907T005851Z
UID:1954-1700122800-1700127000@randallmsstem.com
SUMMARY:White Clubs: Graphic Design\, Rubik's Cubes and Animal Allies Academy  - Students to be at the front gate by 8:20am
DESCRIPTION:White Clubs: Graphic Design\, Rubik’s Cubes and Animal Allies
URL:https://randallmsstem.com/event/white-clubs-graphic-design-rubiks-cubes-and-animal-allies-academy-students-to-be-at-the-front-gate-by-820am-5/
END:VEVENT
BEGIN:VEVENT
DTSTART;TZID=America/New_York:20231130T082000
DTEND;TZID=America/New_York:20231130T093000
DTSTAMP:20260424T052117
CREATED:20230906T201616Z
LAST-MODIFIED:20230906T201616Z
UID:1926-1701332400-1701336600@randallmsstem.com
SUMMARY:Purple Clubs: Chess\, Spheros\, Rockets and LEGO Creations Academy - Students to be at the front gate by 8:20am
DESCRIPTION:Purple Clubs: Chess\, Spheros\, Rockets and LEGO Creations
URL:https://randallmsstem.com/event/purple-clubs-chess-spheros-rockets-and-lego-creations-academy-students-to-be-at-the-front-gate-by-820am-4/
END:VEVENT
END:VCALENDAR