BEGIN:VCALENDAR
VERSION:2.0
PRODID:-//Randall Middle School STEM - ECPv6.15.20//NONSGML v1.0//EN
CALSCALE:GREGORIAN
METHOD:PUBLISH
X-WR-CALNAME:Randall Middle School STEM
X-ORIGINAL-URL:https://randallmsstem.com
X-WR-CALDESC:Events for Randall Middle School STEM
REFRESH-INTERVAL;VALUE=DURATION:PT1H
X-Robots-Tag:noindex
X-PUBLISHED-TTL:PT1H
BEGIN:VTIMEZONE
TZID:America/New_York
BEGIN:DAYLIGHT
TZOFFSETFROM:-0500
TZOFFSETTO:-0400
TZNAME:EDT
DTSTART:20220313T070000
END:DAYLIGHT
BEGIN:STANDARD
TZOFFSETFROM:-0400
TZOFFSETTO:-0500
TZNAME:EST
DTSTART:20221106T060000
END:STANDARD
BEGIN:DAYLIGHT
TZOFFSETFROM:-0500
TZOFFSETTO:-0400
TZNAME:EDT
DTSTART:20230312T070000
END:DAYLIGHT
BEGIN:STANDARD
TZOFFSETFROM:-0400
TZOFFSETTO:-0500
TZNAME:EST
DTSTART:20231105T060000
END:STANDARD
BEGIN:DAYLIGHT
TZOFFSETFROM:-0500
TZOFFSETTO:-0400
TZNAME:EDT
DTSTART:20240310T070000
END:DAYLIGHT
BEGIN:STANDARD
TZOFFSETFROM:-0400
TZOFFSETTO:-0500
TZNAME:EST
DTSTART:20241103T060000
END:STANDARD
END:VTIMEZONE
BEGIN:VEVENT
DTSTART;TZID=America/New_York:20230815T190000
DTEND;TZID=America/New_York:20230815T200000
DTSTAMP:20260424T084440
CREATED:20230626T181535Z
LAST-MODIFIED:20230808T214717Z
UID:1834-1692126000-1692129600@randallmsstem.com
SUMMARY:STEM Info Meeting Rm 126
DESCRIPTION:
URL:https://randallmsstem.com/event/stem-parent-meeting-randall-cafeteria-2/
END:VEVENT
BEGIN:VEVENT
DTSTART;TZID=America/New_York:20230816T083000
DTEND;TZID=America/New_York:20230816T093000
DTSTAMP:20260424T084440
CREATED:20230626T182208Z
LAST-MODIFIED:20230808T215143Z
UID:1838-1692174600-1692178200@randallmsstem.com
SUMMARY:Competitive Team Information Meeting Robotics/SO rm 230 - Students only to be picked up from front gate
DESCRIPTION:
URL:https://randallmsstem.com/event/competitive-team-information-meeting-so-robotics-cafeteria/
END:VEVENT
BEGIN:VEVENT
DTSTART;TZID=America/New_York:20230818T083000
DTEND;TZID=America/New_York:20230818T093000
DTSTAMP:20260424T084440
CREATED:20230626T182345Z
LAST-MODIFIED:20230808T215047Z
UID:1842-1692347400-1692351000@randallmsstem.com
SUMMARY:Competitive Team Robotics/SO TEST Rm 230 - will pick up from front gate
DESCRIPTION:
URL:https://randallmsstem.com/event/competitive-team-so-test-rm-230-2/
END:VEVENT
BEGIN:VEVENT
DTSTART;TZID=America/New_York:20230822T170000
DTEND;TZID=America/New_York:20230824T200000
DTSTAMP:20260424T084440
CREATED:20230808T220025Z
LAST-MODIFIED:20230808T220025Z
UID:1861-1692723600-1692907200@randallmsstem.com
SUMMARY:Competitive team registration
DESCRIPTION:
URL:https://randallmsstem.com/event/competitive-team-registration/
END:VEVENT
BEGIN:VEVENT
DTSTART;TZID=America/New_York:20230825T200000
DTEND;TZID=America/New_York:20230825T210000
DTSTAMP:20260424T084440
CREATED:20230808T215558Z
LAST-MODIFIED:20230830T140734Z
UID:1854-1692993600-1692997200@randallmsstem.com
SUMMARY:Fall 2023 Academy registration
DESCRIPTION:
URL:https://randallmsstem.com/event/fall-2023-academy-registration/
END:VEVENT
BEGIN:VEVENT
DTSTART;TZID=America/New_York:20230826T080000
DTEND;TZID=America/New_York:20230904T170000
DTSTAMP:20260424T084440
CREATED:20230808T215728Z
LAST-MODIFIED:20230830T140658Z
UID:1856-1693036800-1693846800@randallmsstem.com
SUMMARY:Fall 2023 Academy Waitlist placements
DESCRIPTION:
URL:https://randallmsstem.com/event/fall-2023-academy-waitlist-placements/
END:VEVENT
END:VCALENDAR