BEGIN:VCALENDAR
VERSION:2.0
PRODID:-//Randall Middle School STEM - ECPv6.15.20//NONSGML v1.0//EN
CALSCALE:GREGORIAN
METHOD:PUBLISH
X-ORIGINAL-URL:https://randallmsstem.com
X-WR-CALDESC:Events for Randall Middle School STEM
REFRESH-INTERVAL;VALUE=DURATION:PT1H
X-Robots-Tag:noindex
X-PUBLISHED-TTL:PT1H
BEGIN:VTIMEZONE
TZID:America/New_York
BEGIN:DAYLIGHT
TZOFFSETFROM:-0500
TZOFFSETTO:-0400
TZNAME:EDT
DTSTART:20210314T070000
END:DAYLIGHT
BEGIN:STANDARD
TZOFFSETFROM:-0400
TZOFFSETTO:-0500
TZNAME:EST
DTSTART:20211107T060000
END:STANDARD
BEGIN:DAYLIGHT
TZOFFSETFROM:-0500
TZOFFSETTO:-0400
TZNAME:EDT
DTSTART:20220313T070000
END:DAYLIGHT
BEGIN:STANDARD
TZOFFSETFROM:-0400
TZOFFSETTO:-0500
TZNAME:EST
DTSTART:20221106T060000
END:STANDARD
BEGIN:DAYLIGHT
TZOFFSETFROM:-0500
TZOFFSETTO:-0400
TZNAME:EDT
DTSTART:20230312T070000
END:DAYLIGHT
BEGIN:STANDARD
TZOFFSETFROM:-0400
TZOFFSETTO:-0500
TZNAME:EST
DTSTART:20231105T060000
END:STANDARD
BEGIN:DAYLIGHT
TZOFFSETFROM:-0500
TZOFFSETTO:-0400
TZNAME:EDT
DTSTART:20240310T070000
END:DAYLIGHT
BEGIN:STANDARD
TZOFFSETFROM:-0400
TZOFFSETTO:-0500
TZNAME:EST
DTSTART:20241103T060000
END:STANDARD
END:VTIMEZONE
BEGIN:VEVENT
DTSTART;VALUE=DATE:20221226
DTEND;VALUE=DATE:20230107
DTSTAMP:20260424T160407
CREATED:20220812T184217Z
LAST-MODIFIED:20221111T003713Z
UID:1591-1672012800-1673049599@randallmsstem.com
SUMMARY:Winter Break/Non-Student Days
DESCRIPTION:
URL:https://randallmsstem.com/event/winter-break-non-student-days/
END:VEVENT
BEGIN:VEVENT
DTSTART;TZID=America/New_York:20230110T200000
DTEND;TZID=America/New_York:20230115T200000
DTSTAMP:20260424T160407
CREATED:20221227T175823Z
LAST-MODIFIED:20221227T180001Z
UID:1740-1673380800-1673812800@randallmsstem.com
SUMMARY:Spring Academy Registration for returning students
DESCRIPTION:Spring Academy begins February 9th\, 2023\nReturning student registration 8pm January 10 – January 15 8pm \nNew student registration 8pm January 16 – January 22 8pm \nInformation to be provided closer to registration dates
URL:https://randallmsstem.com/event/spring-registration-for-returning-students/
END:VEVENT
BEGIN:VEVENT
DTSTART;VALUE=DATE:20230116
DTEND;VALUE=DATE:20230117
DTSTAMP:20260424T160407
CREATED:20220812T184246Z
LAST-MODIFIED:20220812T184246Z
UID:1593-1673827200-1673913599@randallmsstem.com
SUMMARY:Martin Luther King\, Jr./Non-Student Day
DESCRIPTION:
URL:https://randallmsstem.com/event/martin-luther-king-jr-non-student-day/
END:VEVENT
BEGIN:VEVENT
DTSTART;TZID=America/New_York:20230116T200000
DTEND;TZID=America/New_York:20230122T200000
DTSTAMP:20260424T160407
CREATED:20221227T175923Z
LAST-MODIFIED:20221227T175923Z
UID:1742-1673899200-1674417600@randallmsstem.com
SUMMARY:Spring Academy registration for new students
DESCRIPTION:Spring Academy begins February 9th\, 2023\nReturning student registration 8pm January 10 – January 15 8pm \nNew student registration 8pm January 16 – January 22 8pm \nInformation to be provided closer to registration dates
URL:https://randallmsstem.com/event/spring-academy-registration-for-new-students/
END:VEVENT
BEGIN:VEVENT
DTSTART;VALUE=DATE:20230123
DTEND;VALUE=DATE:20230213
DTSTAMP:20260424T160407
CREATED:20230123T200752Z
LAST-MODIFIED:20230207T154108Z
UID:1754-1674432000-1676246399@randallmsstem.com
SUMMARY:STEM Field Trip Registration
DESCRIPTION:ALL Fall AND SPRING students are invited to attend! \n****************************************************************\n \n\n** 1 SIGN-UP PER STUDENT ** \n*Date — March 3\, 2023 \n*Location — NASA Kennedy Space Center! \nAll Fall 2022 and Spring 2023 STEM Club students are invited to join us for our STEM field trip this year. (STUDENTS MUST TAKE BUS FROM SCHOOL) \n*Cost is $95 per student — covers transportation and entry to the Space Center. Students to bring their own lunch or purchase onsite. Snacks to be provided\, but Students can bring their own if they have dietary needs or allergies. Students are encouraged to bring their own water bottles. \n*The field trip departure and return time are estimated to be 545am-8pm\, but will be confirmed as date approaches. STUDENTS MUST TAKE BUS FROM SCHOOL.  Please plan to pick up your student at the Randall bus loop. \nhttps://randallmsstem.com/field-trips/
URL:https://randallmsstem.com/event/stem-field-trip-registration/
END:VEVENT
END:VCALENDAR