BEGIN:VCALENDAR
VERSION:2.0
PRODID:-//Randall Middle School STEM - ECPv6.15.20//NONSGML v1.0//EN
CALSCALE:GREGORIAN
METHOD:PUBLISH
X-WR-CALNAME:Randall Middle School STEM
X-ORIGINAL-URL:https://randallmsstem.com
X-WR-CALDESC:Events for Randall Middle School STEM
REFRESH-INTERVAL;VALUE=DURATION:PT1H
X-Robots-Tag:noindex
X-PUBLISHED-TTL:PT1H
BEGIN:VTIMEZONE
TZID:America/New_York
BEGIN:DAYLIGHT
TZOFFSETFROM:-0500
TZOFFSETTO:-0400
TZNAME:EDT
DTSTART:20210314T070000
END:DAYLIGHT
BEGIN:STANDARD
TZOFFSETFROM:-0400
TZOFFSETTO:-0500
TZNAME:EST
DTSTART:20211107T060000
END:STANDARD
BEGIN:DAYLIGHT
TZOFFSETFROM:-0500
TZOFFSETTO:-0400
TZNAME:EDT
DTSTART:20220313T070000
END:DAYLIGHT
BEGIN:STANDARD
TZOFFSETFROM:-0400
TZOFFSETTO:-0500
TZNAME:EST
DTSTART:20221106T060000
END:STANDARD
BEGIN:DAYLIGHT
TZOFFSETFROM:-0500
TZOFFSETTO:-0400
TZNAME:EDT
DTSTART:20230312T070000
END:DAYLIGHT
BEGIN:STANDARD
TZOFFSETFROM:-0400
TZOFFSETTO:-0500
TZNAME:EST
DTSTART:20231105T060000
END:STANDARD
BEGIN:DAYLIGHT
TZOFFSETFROM:-0500
TZOFFSETTO:-0400
TZNAME:EDT
DTSTART:20240310T070000
END:DAYLIGHT
BEGIN:STANDARD
TZOFFSETFROM:-0400
TZOFFSETTO:-0500
TZNAME:EST
DTSTART:20241103T060000
END:STANDARD
END:VTIMEZONE
BEGIN:VEVENT
DTSTART;VALUE=DATE:20230123
DTEND;VALUE=DATE:20230213
DTSTAMP:20260419T202636
CREATED:20230123T200752Z
LAST-MODIFIED:20230207T154108Z
UID:1754-1674432000-1676246399@randallmsstem.com
SUMMARY:STEM Field Trip Registration
DESCRIPTION:ALL Fall AND SPRING students are invited to attend! \n****************************************************************\n \n\n** 1 SIGN-UP PER STUDENT ** \n*Date — March 3\, 2023 \n*Location — NASA Kennedy Space Center! \nAll Fall 2022 and Spring 2023 STEM Club students are invited to join us for our STEM field trip this year. (STUDENTS MUST TAKE BUS FROM SCHOOL) \n*Cost is $95 per student — covers transportation and entry to the Space Center. Students to bring their own lunch or purchase onsite. Snacks to be provided\, but Students can bring their own if they have dietary needs or allergies. Students are encouraged to bring their own water bottles. \n*The field trip departure and return time are estimated to be 545am-8pm\, but will be confirmed as date approaches. STUDENTS MUST TAKE BUS FROM SCHOOL.  Please plan to pick up your student at the Randall bus loop. \nhttps://randallmsstem.com/field-trips/
URL:https://randallmsstem.com/event/stem-field-trip-registration/
END:VEVENT
BEGIN:VEVENT
DTSTART;TZID=America/New_York:20230116T200000
DTEND;TZID=America/New_York:20230122T200000
DTSTAMP:20260419T202636
CREATED:20221227T175923Z
LAST-MODIFIED:20221227T175923Z
UID:1742-1673899200-1674417600@randallmsstem.com
SUMMARY:Spring Academy registration for new students
DESCRIPTION:Spring Academy begins February 9th\, 2023\nReturning student registration 8pm January 10 – January 15 8pm \nNew student registration 8pm January 16 – January 22 8pm \nInformation to be provided closer to registration dates
URL:https://randallmsstem.com/event/spring-academy-registration-for-new-students/
END:VEVENT
BEGIN:VEVENT
DTSTART;VALUE=DATE:20230116
DTEND;VALUE=DATE:20230117
DTSTAMP:20260419T202636
CREATED:20220812T184246Z
LAST-MODIFIED:20220812T184246Z
UID:1593-1673827200-1673913599@randallmsstem.com
SUMMARY:Martin Luther King\, Jr./Non-Student Day
DESCRIPTION:
URL:https://randallmsstem.com/event/martin-luther-king-jr-non-student-day/
END:VEVENT
BEGIN:VEVENT
DTSTART;TZID=America/New_York:20230110T200000
DTEND;TZID=America/New_York:20230115T200000
DTSTAMP:20260419T202636
CREATED:20221227T175823Z
LAST-MODIFIED:20221227T180001Z
UID:1740-1673380800-1673812800@randallmsstem.com
SUMMARY:Spring Academy Registration for returning students
DESCRIPTION:Spring Academy begins February 9th\, 2023\nReturning student registration 8pm January 10 – January 15 8pm \nNew student registration 8pm January 16 – January 22 8pm \nInformation to be provided closer to registration dates
URL:https://randallmsstem.com/event/spring-registration-for-returning-students/
END:VEVENT
BEGIN:VEVENT
DTSTART;VALUE=DATE:20221226
DTEND;VALUE=DATE:20230107
DTSTAMP:20260419T202636
CREATED:20220812T184217Z
LAST-MODIFIED:20221111T003713Z
UID:1591-1672012800-1673049599@randallmsstem.com
SUMMARY:Winter Break/Non-Student Days
DESCRIPTION:
URL:https://randallmsstem.com/event/winter-break-non-student-days/
END:VEVENT
BEGIN:VEVENT
DTSTART;TZID=America/New_York:20221208T083000
DTEND;TZID=America/New_York:20221208T083000
DTSTAMP:20260419T202636
CREATED:20221111T003247Z
LAST-MODIFIED:20221111T003514Z
UID:1734-1670488200-1670488200@randallmsstem.com
SUMMARY:Last Day of STEM Fall Academy
DESCRIPTION:
URL:https://randallmsstem.com/event/last-day-of-fall-academy/
END:VEVENT
BEGIN:VEVENT
DTSTART;VALUE=DATE:20221121
DTEND;VALUE=DATE:20221126
DTSTAMP:20260419T202636
CREATED:20220812T184140Z
LAST-MODIFIED:20220812T184140Z
UID:1589-1668988800-1669420799@randallmsstem.com
SUMMARY:Fall Break/Non-Student Days
DESCRIPTION:
URL:https://randallmsstem.com/event/fall-break-non-student-days/
END:VEVENT
BEGIN:VEVENT
DTSTART;TZID=America/New_York:20221115T180000
DTEND;TZID=America/New_York:20221115T200000
DTSTAMP:20260419T202636
CREATED:20221018T195459Z
LAST-MODIFIED:20221115T011416Z
UID:1705-1668535200-1668542400@randallmsstem.com
SUMMARY:Friends & Family Trivia Night
DESCRIPTION:Randall STEM SWAG will also be available for purchase at the event!
URL:https://randallmsstem.com/event/friends-family-trivia-night/
LOCATION:Friends & Family Trivia Night\, Randall MS Cafeteria\, Lithia\, Fl
END:VEVENT
BEGIN:VEVENT
DTSTART;VALUE=DATE:20221111
DTEND;VALUE=DATE:20221112
DTSTAMP:20260419T202636
CREATED:20220812T184111Z
LAST-MODIFIED:20220812T184111Z
UID:1587-1668124800-1668211199@randallmsstem.com
SUMMARY:Veterans Day/Non-Student Day
DESCRIPTION:
URL:https://randallmsstem.com/event/veterans-day-non-student-day/
END:VEVENT
BEGIN:VEVENT
DTSTART;VALUE=DATE:20221017
DTEND;VALUE=DATE:20221018
DTSTAMP:20260419T202636
CREATED:20220812T184047Z
LAST-MODIFIED:20220812T184047Z
UID:1585-1665964800-1666051199@randallmsstem.com
SUMMARY:Non-Student Day
DESCRIPTION:
URL:https://randallmsstem.com/event/non-student-day/
END:VEVENT
BEGIN:VEVENT
DTSTART;TZID=America/New_York:20220923T083000
DTEND;TZID=America/New_York:20220923T091500
DTSTAMP:20260419T202636
CREATED:20220902T155224Z
LAST-MODIFIED:20220902T155224Z
UID:1701-1663921800-1663924500@randallmsstem.com
SUMMARY:Drones
DESCRIPTION:Begin Sept 23 at 830am
URL:https://randallmsstem.com/event/drones/
END:VEVENT
BEGIN:VEVENT
DTSTART;TZID=America/New_York:20220915T083000
DTEND;TZID=America/New_York:20220915T083000
DTSTAMP:20260419T202636
CREATED:20220812T163324Z
LAST-MODIFIED:20220812T163324Z
UID:1570-1663230600-1663230600@randallmsstem.com
SUMMARY:Fall Academy begins
DESCRIPTION:
URL:https://randallmsstem.com/event/fall-academy-begins/
END:VEVENT
BEGIN:VEVENT
DTSTART;VALUE=DATE:20220909
DTEND;VALUE=DATE:20220910
DTSTAMP:20260419T202636
CREATED:20220902T155138Z
LAST-MODIFIED:20220902T155256Z
UID:1699-1662681600-1662767999@randallmsstem.com
SUMMARY:Drone Applications Due
DESCRIPTION:Due 9/9 to Mrs Hodgkins rm 230 or Mr Torsone rm 126 \nDrone Application
URL:https://randallmsstem.com/event/drone-applications/
END:VEVENT
BEGIN:VEVENT
DTSTART;VALUE=DATE:20220905
DTEND;VALUE=DATE:20220906
DTSTAMP:20260419T202636
CREATED:20220812T184017Z
LAST-MODIFIED:20220812T184017Z
UID:1583-1662336000-1662422399@randallmsstem.com
SUMMARY:Labor Day/Non-Student Day
DESCRIPTION:
URL:https://randallmsstem.com/event/labor-day-non-student-day/
END:VEVENT
BEGIN:VEVENT
DTSTART;VALUE=DATE:20220830
DTEND;VALUE=DATE:20220831
DTSTAMP:20260419T202636
CREATED:20220828T205539Z
LAST-MODIFIED:20220828T205627Z
UID:1689-1661817600-1661903999@randallmsstem.com
SUMMARY:Club Academy Course Assignment List
DESCRIPTION:Look for your course assignment on the STEM Club bulletin board in 100 Hallway on Tues Aug 30th\, or at the link below\n \nhttps://randallmsstem.com/club-academy-members/
URL:https://randallmsstem.com/event/club-academy-course-assignment-list/
END:VEVENT
BEGIN:VEVENT
DTSTART;TZID=America/New_York:20220825T083000
DTEND;TZID=America/New_York:20220825T083000
DTSTAMP:20260419T202636
CREATED:20220812T155745Z
LAST-MODIFIED:20220812T163500Z
UID:1566-1661416200-1661416200@randallmsstem.com
SUMMARY:Competitive Team SO TEST Rm 230
DESCRIPTION:
URL:https://randallmsstem.com/event/competitive-team-so-test-rm-230/
END:VEVENT
BEGIN:VEVENT
DTSTART;TZID=America/New_York:20220824T083000
DTEND;TZID=America/New_York:20220824T083000
DTSTAMP:20260419T202636
CREATED:20220812T155718Z
LAST-MODIFIED:20220812T163526Z
UID:1564-1661329800-1661329800@randallmsstem.com
SUMMARY:Competitive Team Robotics TEST Rm 230
DESCRIPTION:
URL:https://randallmsstem.com/event/competitive-team-robotics-test-rm-230/
END:VEVENT
BEGIN:VEVENT
DTSTART;TZID=America/New_York:20220819T083000
DTEND;TZID=America/New_York:20220819T083000
DTSTAMP:20260419T202636
CREATED:20220812T154934Z
LAST-MODIFIED:20220812T163544Z
UID:1554-1660897800-1660897800@randallmsstem.com
SUMMARY:Competitive Team SSEP TEST Rm 116
DESCRIPTION:
URL:https://randallmsstem.com/event/competitive-team-ssep-informational-meeting-rm-116/
END:VEVENT
BEGIN:VEVENT
DTSTART;TZID=America/New_York:20220818T200000
DTEND;TZID=America/New_York:20220820T103000
DTSTAMP:20260419T202636
CREATED:20220812T151009Z
LAST-MODIFIED:20220820T143625Z
UID:1537-1660852800-1660991400@randallmsstem.com
SUMMARY:STEM Club Fall Academy Registration 2022 NOW CLOSED
DESCRIPTION:
URL:https://randallmsstem.com/event/stem-club-fall-academy-registration-2022/
END:VEVENT
BEGIN:VEVENT
DTSTART;TZID=America/New_York:20220818T083000
DTEND;TZID=America/New_York:20220818T083000
DTSTAMP:20260419T202636
CREATED:20220812T155550Z
LAST-MODIFIED:20220812T163602Z
UID:1562-1660811400-1660811400@randallmsstem.com
SUMMARY:Competitive Team Information Meeting SO & Robotics Rm 230
DESCRIPTION:
URL:https://randallmsstem.com/event/competitive-team-information-meeting-so-robotics-rm-230/
END:VEVENT
BEGIN:VEVENT
DTSTART;TZID=America/New_York:20220817T083000
DTEND;TZID=America/New_York:20220817T083000
DTSTAMP:20260419T202636
CREATED:20220812T155504Z
LAST-MODIFIED:20220812T163617Z
UID:1560-1660725000-1660725000@randallmsstem.com
SUMMARY:Competitive Team Information Meeting SSEP Rm 116
DESCRIPTION:
URL:https://randallmsstem.com/event/competitive-team-information-meeting-ssep-rm-116/
END:VEVENT
BEGIN:VEVENT
DTSTART;TZID=America/New_York:20220816T183000
DTEND;TZID=America/New_York:20220816T200000
DTSTAMP:20260419T202636
CREATED:20220812T154627Z
LAST-MODIFIED:20220812T154627Z
UID:1552-1660674600-1660680000@randallmsstem.com
SUMMARY:STEM Parent Meeting Randall Cafeteria
DESCRIPTION:
URL:https://randallmsstem.com/event/stem-parent-meeting-randall-cafeteria/
END:VEVENT
END:VCALENDAR