BEGIN:VCALENDAR
VERSION:2.0
PRODID:-//Randall Middle School STEM - ECPv6.15.20//NONSGML v1.0//EN
CALSCALE:GREGORIAN
METHOD:PUBLISH
X-WR-CALNAME:Randall Middle School STEM
X-ORIGINAL-URL:https://randallmsstem.com
X-WR-CALDESC:Events for Randall Middle School STEM
REFRESH-INTERVAL;VALUE=DURATION:PT1H
X-Robots-Tag:noindex
X-PUBLISHED-TTL:PT1H
BEGIN:VTIMEZONE
TZID:America/New_York
BEGIN:DAYLIGHT
TZOFFSETFROM:-0500
TZOFFSETTO:-0400
TZNAME:EDT
DTSTART:20240310T070000
END:DAYLIGHT
BEGIN:STANDARD
TZOFFSETFROM:-0400
TZOFFSETTO:-0500
TZNAME:EST
DTSTART:20241103T060000
END:STANDARD
BEGIN:DAYLIGHT
TZOFFSETFROM:-0500
TZOFFSETTO:-0400
TZNAME:EDT
DTSTART:20250309T070000
END:DAYLIGHT
BEGIN:STANDARD
TZOFFSETFROM:-0400
TZOFFSETTO:-0500
TZNAME:EST
DTSTART:20251102T060000
END:STANDARD
BEGIN:DAYLIGHT
TZOFFSETFROM:-0500
TZOFFSETTO:-0400
TZNAME:EDT
DTSTART:20260308T070000
END:DAYLIGHT
BEGIN:STANDARD
TZOFFSETFROM:-0400
TZOFFSETTO:-0500
TZNAME:EST
DTSTART:20261101T060000
END:STANDARD
END:VTIMEZONE
BEGIN:VEVENT
DTSTART;TZID=America/New_York:20250813T183000
DTEND;TZID=America/New_York:20250813T193000
DTSTAMP:20260421T060605
CREATED:20250810T223322Z
LAST-MODIFIED:20250811T154328Z
UID:2223-1755109800-1755113400@randallmsstem.com
SUMMARY:STEM Club Parent Information Night 2025
DESCRIPTION:
URL:https://randallmsstem.com/event/parent-information-night-2025/
LOCATION:Randall Middle School Cafeteria
END:VEVENT
END:VCALENDAR